BEGIN:VCALENDAR
VERSION:2.0
PRODID:-//pretix//pretix.eu//
BEGIN:VTIMEZONE
TZID:Europe/Berlin
BEGIN:STANDARD
DTSTART:20001029T040000
RRULE:FREQ=YEARLY;BYDAY=-1SU;BYMONTH=10
TZNAME:CET
TZOFFSETFROM:+0200
TZOFFSETTO:+0100
END:STANDARD
BEGIN:DAYLIGHT
DTSTART:20000326T030000
RRULE:FREQ=YEARLY;BYDAY=-1SU;BYMONTH=3
TZNAME:CEST
TZOFFSETFROM:+0100
TZOFFSETTO:+0200
END:DAYLIGHT
END:VTIMEZONE
BEGIN:VEVENT
UID:pretix-adwmainz-data-ethics-0@events.adwmainz.de
DTSTART;TZID=Europe/Berlin:20251110T130000
DTEND;TZID=Europe/Berlin:20251112T140000
DESCRIPTION:Tickets: https://events.adwmainz.de/data-ethics/\nOrganizer: Ak
 ademie der Wissenschaften und der Literatur | Mainz
DTSTAMP:20260425T232327Z
LOCATION:Akademie der Wissenschaften und der Literatur\, Geschwister-Scholl
 -Str. 2\, 55131 Mainz
SUMMARY:Data Ethics for Historical Research in a Digital Era
END:VEVENT
END:VCALENDAR
