BEGIN:VCALENDAR
VERSION:2.0
PRODID:-//pretix//pretix.eu//
BEGIN:VTIMEZONE
TZID:Europe/Berlin
BEGIN:STANDARD
DTSTART:20001029T040000
RRULE:FREQ=YEARLY;BYDAY=-1SU;BYMONTH=10
TZNAME:CET
TZOFFSETFROM:+0200
TZOFFSETTO:+0100
END:STANDARD
BEGIN:DAYLIGHT
DTSTART:20000326T030000
RRULE:FREQ=YEARLY;BYDAY=-1SU;BYMONTH=3
TZNAME:CEST
TZOFFSETFROM:+0100
TZOFFSETTO:+0200
END:DAYLIGHT
END:VTIMEZONE
BEGIN:VEVENT
UID:pretix-adwmainz-bellechen-0@events.adwmainz.de
DTSTART;TZID=Europe/Berlin:20260331T190000
DTEND;TZID=Europe/Berlin:20260331T200000
DESCRIPTION:Tickets: https://events.adwmainz.de/bellechen/\nVeranstalter: A
 kademie der Wissenschaften und der Literatur | Mainz
DTSTAMP:20260420T134736Z
LOCATION:Akademie der Wissenschaften und der Literatur | Mainz\, Geschwiste
 r-Scholl-Str. 2\, 55131 Mainz
SUMMARY:Klavierkonzert mit Belle Chen
END:VEVENT
BEGIN:VEVENT
UID:pretix-adwmainz-trioreinecke-0@events.adwmainz.de
DTSTART;TZID=Europe/Berlin:20260409T190000
DTEND;TZID=Europe/Berlin:20260409T200000
DESCRIPTION:Tickets: https://events.adwmainz.de/trioreinecke/\nVeranstalter
 : Akademie der Wissenschaften und der Literatur | Mainz
DTSTAMP:20260420T134736Z
LOCATION:Akademie der Wissenschaften und der Literatur | Mainz\, Geschwiste
 r-Scholl-Str. 2\, 55131 Mainz
SUMMARY:Konzert des Trio Reinecke
END:VEVENT
BEGIN:VEVENT
UID:pretix-adwmainz-ueberlebenskunst-0@events.adwmainz.de
DTSTART;TZID=Europe/Berlin:20260423T190000
DTEND;TZID=Europe/Berlin:20260423T200000
DESCRIPTION:Tickets: https://events.adwmainz.de/ueberlebenskunst/\nVeransta
 lter: Akademie der Wissenschaften und der Literatur | Mainz
DTSTAMP:20260420T134736Z
LOCATION:Akademie der Wissenschaften und der Literatur | Mainz\, Geschwiste
 r-Scholl-Str. 2\, 55131 Mainz
SUMMARY:Einladung zu einem literarischen Abend: »ÜBER l e b e n s KUNST«
END:VEVENT
BEGIN:VEVENT
UID:pretix-adwmainz-wkapandemie-0@events.adwmainz.de
DTSTART;TZID=Europe/Berlin:20260429T180000
DTEND;TZID=Europe/Berlin:20260429T190000
DESCRIPTION:Tickets: https://events.adwmainz.de/wkapandemie/\nVeranstalter:
  Akademie der Wissenschaften und der Literatur | Mainz
DTSTAMP:20260420T134736Z
LOCATION:Akademie der Wissenschaften und der Literatur | Mainz\, Geschwiste
 r-Scholl-Str. 2\, 55131 Mainz
SUMMARY:Podiumsdiskussion: Zwischen Wissenschaft und Bauchgefühl – Entsc
 heidungen in der Pandemie
END:VEVENT
BEGIN:VEVENT
UID:pretix-adwmainz-hackday-0@events.adwmainz.de
DTSTART;TZID=Europe/Berlin:20260504T130000
DTEND;TZID=Europe/Berlin:20260505T120000
DESCRIPTION:Tickets: https://events.adwmainz.de/hackday/\nVeranstalter: Aka
 demie der Wissenschaften und der Literatur | Mainz
DTSTAMP:20260420T134736Z
LOCATION:Akademie der Wissenschaften und der Literatur | Mainz\, Geschwiste
 r-Scholl-Str. 2\, 55131 Mainz
SUMMARY:Workshop: Innovation mit KI? Hack Day für maschinelles Lernen in d
 en Humanities
END:VEVENT
BEGIN:VEVENT
UID:pretix-adwmainz-Kammerkonzert-0@events.adwmainz.de
DTSTART;TZID=Europe/Berlin:20260510T113000
DTEND;TZID=Europe/Berlin:20260510T123000
DESCRIPTION:Tickets: https://events.adwmainz.de/Kammerkonzert/\nVeranstalte
 r: Akademie der Wissenschaften und der Literatur | Mainz
DTSTAMP:20260420T134736Z
LOCATION:Akademie der Wissenschaften und der Literatur | Mainz\, Geschwiste
 r-Scholl-Str. 2\, 55131 Mainz
SUMMARY:Mainzer Komponist*innenportrait: Kammerkonzert und Gesprächsrunde 
 „Fragmente einer Ewigkeit“
END:VEVENT
BEGIN:VEVENT
UID:pretix-adwmainz-koelnconcert-0@events.adwmainz.de
DTSTART;TZID=Europe/Berlin:20260519T190000
DTEND;TZID=Europe/Berlin:20260519T200000
DESCRIPTION:Tickets: https://events.adwmainz.de/koelnconcert/\nVeranstalter
 : Akademie der Wissenschaften und der Literatur | Mainz
DTSTAMP:20260420T134736Z
LOCATION:Akademie der Wissenschaften und der Literatur | Mainz\, Geschwiste
 r-Scholl-Str. 2\, 55131 Mainz
SUMMARY:The Köln Concert – Benjamin Schatz performt Keith Jarretts legen
 dären Konzertabend
END:VEVENT
BEGIN:VEVENT
UID:pretix-adwmainz-culture-reihe-4-4890256@events.adwmainz.de
DTSTART;TZID=Europe/Berlin:20260320T190000
DTEND;TZID=Europe/Berlin:20260320T200000
DESCRIPTION:Tickets: https://events.adwmainz.de/culture-reihe-4/4890256/\nV
 eranstalter: Akademie der Wissenschaften und der Literatur | Mainz
DTSTAMP:20260420T134736Z
LOCATION:Kalkhof-Rose-Saal Akademie der Wissenschaften und der Literatur\, 
 Geschwister-Scholl-Straße 2\, 55131 Mainz
SUMMARY:Fridays For Culture: Sebastian Sternal - ›Thelonia‹
END:VEVENT
BEGIN:VEVENT
UID:pretix-adwmainz-culture-reihe-4-4890255@events.adwmainz.de
DTSTART;TZID=Europe/Berlin:20260417T190000
DTEND;TZID=Europe/Berlin:20260417T200000
DESCRIPTION:Tickets: https://events.adwmainz.de/culture-reihe-4/4890255/\nV
 eranstalter: Akademie der Wissenschaften und der Literatur | Mainz
DTSTAMP:20260420T134736Z
LOCATION:Kalkhof-Rose-Saal Akademie der Wissenschaften und der Literatur\, 
 Geschwister-Scholl-Straße 2\, 55131 Mainz
SUMMARY:Fridays For Culture: Jan Luley - ›From Baltic Blues to New Orlean
 s Music‹
END:VEVENT
BEGIN:VEVENT
UID:pretix-adwmainz-culture-reihe-4-4890257@events.adwmainz.de
DTSTART;TZID=Europe/Berlin:20260529T190000
DTEND;TZID=Europe/Berlin:20260529T200000
DESCRIPTION:Tickets: https://events.adwmainz.de/culture-reihe-4/4890257/\nV
 eranstalter: Akademie der Wissenschaften und der Literatur | Mainz
DTSTAMP:20260420T134736Z
LOCATION:Kalkhof-Rose-Saal Akademie der Wissenschaften und der Literatur\, 
 Geschwister-Scholl-Straße 2\, 55131 Mainz
SUMMARY:Fridays For Culture: Martin Sasse - ›Longing‹
END:VEVENT
BEGIN:VEVENT
UID:pretix-adwmainz-culture-reihe-4-4890258@events.adwmainz.de
DTSTART;TZID=Europe/Berlin:20261016T190000
DTEND;TZID=Europe/Berlin:20261016T200000
DESCRIPTION:Tickets: https://events.adwmainz.de/culture-reihe-4/4890258/\nV
 eranstalter: Akademie der Wissenschaften und der Literatur | Mainz
DTSTAMP:20260420T134736Z
LOCATION:Kalkhof-Rose-Saal Akademie der Wissenschaften und der Literatur\, 
 Geschwister-Scholl-Straße 2\, 55131 Mainz
SUMMARY:Fridays For Culture: Clara Vetter - ›What Dances Here‹
END:VEVENT
BEGIN:VEVENT
UID:pretix-adwmainz-culture-reihe-4-4890259@events.adwmainz.de
DTSTART;TZID=Europe/Berlin:20261113T190000
DTEND;TZID=Europe/Berlin:20261113T200000
DESCRIPTION:Tickets: https://events.adwmainz.de/culture-reihe-4/4890259/\nV
 eranstalter: Akademie der Wissenschaften und der Literatur | Mainz
DTSTAMP:20260420T134736Z
LOCATION:Kalkhof-Rose-Saal Akademie der Wissenschaften und der Literatur\, 
 Geschwister-Scholl-Straße 2\, 55131 Mainz
SUMMARY:Fridays For Culture: Jerry Lu - ›Great American Songbook‹
END:VEVENT
END:VCALENDAR
